BEGIN:VCALENDAR
VERSION:2.0
PRODID:-//Heimatverein Groß-Enzersdorf - ECPv6.15.20//NONSGML v1.0//EN
CALSCALE:GREGORIAN
METHOD:PUBLISH
X-WR-CALNAME:Heimatverein Groß-Enzersdorf
X-ORIGINAL-URL:https://www.heimatverein-grossenzersdorf.at
X-WR-CALDESC:Veranstaltungen für Heimatverein Groß-Enzersdorf
REFRESH-INTERVAL;VALUE=DURATION:PT1H
X-Robots-Tag:noindex
X-PUBLISHED-TTL:PT1H
BEGIN:VTIMEZONE
TZID:Europe/Vienna
BEGIN:DAYLIGHT
TZOFFSETFROM:+0100
TZOFFSETTO:+0200
TZNAME:CEST
DTSTART:20240331T010000
END:DAYLIGHT
BEGIN:STANDARD
TZOFFSETFROM:+0200
TZOFFSETTO:+0100
TZNAME:CET
DTSTART:20241027T010000
END:STANDARD
BEGIN:DAYLIGHT
TZOFFSETFROM:+0100
TZOFFSETTO:+0200
TZNAME:CEST
DTSTART:20250330T010000
END:DAYLIGHT
BEGIN:STANDARD
TZOFFSETFROM:+0200
TZOFFSETTO:+0100
TZNAME:CET
DTSTART:20251026T010000
END:STANDARD
BEGIN:DAYLIGHT
TZOFFSETFROM:+0100
TZOFFSETTO:+0200
TZNAME:CEST
DTSTART:20260329T010000
END:DAYLIGHT
BEGIN:STANDARD
TZOFFSETFROM:+0200
TZOFFSETTO:+0100
TZNAME:CET
DTSTART:20261025T010000
END:STANDARD
END:VTIMEZONE
BEGIN:VEVENT
DTSTART;TZID=Europe/Vienna:20250424T190000
DTEND;TZID=Europe/Vienna:20250424T210000
DTSTAMP:20260421T130137
CREATED:20250408T144639Z
LAST-MODIFIED:20250408T145318Z
UID:5320-1745521200-1745528400@www.heimatverein-grossenzersdorf.at
SUMMARY:Lesung Rudolf Orlik: "Wien ist anders geworden"
DESCRIPTION:Unser Vereinsmitglied Rudolf Orlik liest aus seinem neuen Buch.\n \n 
URL:https://www.heimatverein-grossenzersdorf.at/termin/lesung-rudolf-orlik-wien-ist-anders-geworden/
LOCATION:Stadtsaal Gross-Enzersdorf\, Hauptplatz 12\, Groß-Enzersdorf\, 2301\, Austria
END:VEVENT
END:VCALENDAR