BEGIN:VCALENDAR
VERSION:2.0
PRODID:-//Heimatverein Groß-Enzersdorf - ECPv6.15.20//NONSGML v1.0//EN
CALSCALE:GREGORIAN
METHOD:PUBLISH
X-WR-CALNAME:Heimatverein Groß-Enzersdorf
X-ORIGINAL-URL:https://www.heimatverein-grossenzersdorf.at
X-WR-CALDESC:Veranstaltungen für Heimatverein Groß-Enzersdorf
REFRESH-INTERVAL;VALUE=DURATION:PT1H
X-Robots-Tag:noindex
X-PUBLISHED-TTL:PT1H
BEGIN:VTIMEZONE
TZID:Europe/Vienna
BEGIN:DAYLIGHT
TZOFFSETFROM:+0100
TZOFFSETTO:+0200
TZNAME:CEST
DTSTART:20240331T010000
END:DAYLIGHT
BEGIN:STANDARD
TZOFFSETFROM:+0200
TZOFFSETTO:+0100
TZNAME:CET
DTSTART:20241027T010000
END:STANDARD
BEGIN:DAYLIGHT
TZOFFSETFROM:+0100
TZOFFSETTO:+0200
TZNAME:CEST
DTSTART:20250330T010000
END:DAYLIGHT
BEGIN:STANDARD
TZOFFSETFROM:+0200
TZOFFSETTO:+0100
TZNAME:CET
DTSTART:20251026T010000
END:STANDARD
BEGIN:DAYLIGHT
TZOFFSETFROM:+0100
TZOFFSETTO:+0200
TZNAME:CEST
DTSTART:20260329T010000
END:DAYLIGHT
BEGIN:STANDARD
TZOFFSETFROM:+0200
TZOFFSETTO:+0100
TZNAME:CET
DTSTART:20261025T010000
END:STANDARD
END:VTIMEZONE
BEGIN:VEVENT
DTSTART;TZID=Europe/Vienna:20250510T140000
DTEND;TZID=Europe/Vienna:20250510T170000
DTSTAMP:20260421T143239
CREATED:20231222T204118Z
LAST-MODIFIED:20250329T162938Z
UID:4742-1746885600-1746896400@www.heimatverein-grossenzersdorf.at
SUMMARY:Stadtführung mit Auftritten von historischen Personen aus der Geschichte unserer Stadt
DESCRIPTION:Die inszenierte Stadtführung veranstalten die Kulturvermittler von Groß Enzersdorf. \nWährend der Führung werden Personen aus der Geschichte unserer Stadt erscheinen und über ihr Leben und Wirken erzählen! \nKartenpreise: Erwachsene € 8\,- Kinder € 5\,-\nAnmeldung bei der Stadtgemeinde Groß-Enzersdorf  Tel: +43 2249 231428 ist erwünscht! \nTreffpunkt am Hauptplatz vor dem Stadtsaal ist um 14:00 Uhr. \n  \n 
URL:https://www.heimatverein-grossenzersdorf.at/termin/stadtfuehrung-mit-auftritten-von-historischen-personen-aus-der-geschichte-unserer-stadt/
LOCATION:Hauptplatz\, Hauptplatz\, Groß-Enzersdorf\, 2301\, Österreich
END:VEVENT
END:VCALENDAR