BEGIN:VCALENDAR
VERSION:2.0
PRODID:-//Heimatverein Groß-Enzersdorf - ECPv6.15.20//NONSGML v1.0//EN
CALSCALE:GREGORIAN
METHOD:PUBLISH
X-ORIGINAL-URL:https://www.heimatverein-grossenzersdorf.at
X-WR-CALDESC:Veranstaltungen für Heimatverein Groß-Enzersdorf
REFRESH-INTERVAL;VALUE=DURATION:PT1H
X-Robots-Tag:noindex
X-PUBLISHED-TTL:PT1H
BEGIN:VTIMEZONE
TZID:Europe/Vienna
BEGIN:DAYLIGHT
TZOFFSETFROM:+0100
TZOFFSETTO:+0200
TZNAME:CEST
DTSTART:20240331T010000
END:DAYLIGHT
BEGIN:STANDARD
TZOFFSETFROM:+0200
TZOFFSETTO:+0100
TZNAME:CET
DTSTART:20241027T010000
END:STANDARD
BEGIN:DAYLIGHT
TZOFFSETFROM:+0100
TZOFFSETTO:+0200
TZNAME:CEST
DTSTART:20250330T010000
END:DAYLIGHT
BEGIN:STANDARD
TZOFFSETFROM:+0200
TZOFFSETTO:+0100
TZNAME:CET
DTSTART:20251026T010000
END:STANDARD
BEGIN:DAYLIGHT
TZOFFSETFROM:+0100
TZOFFSETTO:+0200
TZNAME:CEST
DTSTART:20260329T010000
END:DAYLIGHT
BEGIN:STANDARD
TZOFFSETFROM:+0200
TZOFFSETTO:+0100
TZNAME:CET
DTSTART:20261025T010000
END:STANDARD
END:VTIMEZONE
BEGIN:VEVENT
DTSTART;TZID=Europe/Vienna:20251031T190000
DTEND;TZID=Europe/Vienna:20251031T213000
DTSTAMP:20260421T112804
CREATED:20250516T132610Z
LAST-MODIFIED:20250516T133758Z
UID:5387-1761937200-1761946200@www.heimatverein-grossenzersdorf.at
SUMMARY:Lesung: "Wien ist anders geworden"
DESCRIPTION:Rudi Orlik liest heitere und humorige Ausschnitte aus seinem neuen Buch über die Wandlung unserer Hauptstadt und seiner Bewohner.
URL:https://www.heimatverein-grossenzersdorf.at/termin/lesung-wien-ist-anders-geworden/
LOCATION:Pfarrheim Groß Enzersdorf\, Kirchenplatz 20\, Groß Enzersdorf\, 2301
END:VEVENT
END:VCALENDAR