BEGIN:VCALENDAR
VERSION:2.0
PRODID:-//Heimatverein Groß-Enzersdorf - ECPv6.15.20//NONSGML v1.0//EN
CALSCALE:GREGORIAN
METHOD:PUBLISH
X-ORIGINAL-URL:https://www.heimatverein-grossenzersdorf.at
X-WR-CALDESC:Veranstaltungen für Heimatverein Groß-Enzersdorf
REFRESH-INTERVAL;VALUE=DURATION:PT1H
X-Robots-Tag:noindex
X-PUBLISHED-TTL:PT1H
BEGIN:VTIMEZONE
TZID:Europe/Vienna
BEGIN:DAYLIGHT
TZOFFSETFROM:+0100
TZOFFSETTO:+0200
TZNAME:CEST
DTSTART:20240331T010000
END:DAYLIGHT
BEGIN:STANDARD
TZOFFSETFROM:+0200
TZOFFSETTO:+0100
TZNAME:CET
DTSTART:20241027T010000
END:STANDARD
BEGIN:DAYLIGHT
TZOFFSETFROM:+0100
TZOFFSETTO:+0200
TZNAME:CEST
DTSTART:20250330T010000
END:DAYLIGHT
BEGIN:STANDARD
TZOFFSETFROM:+0200
TZOFFSETTO:+0100
TZNAME:CET
DTSTART:20251026T010000
END:STANDARD
BEGIN:DAYLIGHT
TZOFFSETFROM:+0100
TZOFFSETTO:+0200
TZNAME:CEST
DTSTART:20260329T010000
END:DAYLIGHT
BEGIN:STANDARD
TZOFFSETFROM:+0200
TZOFFSETTO:+0100
TZNAME:CET
DTSTART:20261025T010000
END:STANDARD
END:VTIMEZONE
BEGIN:VEVENT
DTSTART;TZID=Europe/Vienna:20250412T140000
DTEND;TZID=Europe/Vienna:20250412T160000
DTSTAMP:20260421T112906
CREATED:20230101T144224Z
LAST-MODIFIED:20250329T163349Z
UID:1859-1744466400-1744473600@www.heimatverein-grossenzersdorf.at
SUMMARY:Stadtführung - mit Kulturvermittler Gerald Bichinger
DESCRIPTION:Stadtrundgang Plakat 2025 \nIm Rahmen eines Spaziergangs werden die Geschichte der Stadt und Ihrer Gebäude erzählt. \nNäheres zu den Stadtrundgängen findet man auch unter ->Unsere Stadt / Stadtführungen \nErw. €8.-/Kinder €5.-\nInfo und Anmeldung bei der Stadtgemeinde:\nTel. 02249/231428\n 
URL:https://www.heimatverein-grossenzersdorf.at/termin/stadtfuehrung-mit-pamela-klena-paill/
LOCATION:Hauptplatz\, Hauptplatz\, Groß-Enzersdorf\, 2301\, Österreich
END:VEVENT
BEGIN:VEVENT
DTSTART;TZID=Europe/Vienna:20250424T190000
DTEND;TZID=Europe/Vienna:20250424T210000
DTSTAMP:20260421T112906
CREATED:20250408T144639Z
LAST-MODIFIED:20250408T145318Z
UID:5320-1745521200-1745528400@www.heimatverein-grossenzersdorf.at
SUMMARY:Lesung Rudolf Orlik: "Wien ist anders geworden"
DESCRIPTION:Unser Vereinsmitglied Rudolf Orlik liest aus seinem neuen Buch.\n \n 
URL:https://www.heimatverein-grossenzersdorf.at/termin/lesung-rudolf-orlik-wien-ist-anders-geworden/
LOCATION:Stadtsaal Gross-Enzersdorf\, Hauptplatz 12\, Groß-Enzersdorf\, 2301\, Austria
END:VEVENT
BEGIN:VEVENT
DTSTART;TZID=Europe/Vienna:20250425T190000
DTEND;TZID=Europe/Vienna:20250425T210000
DTSTAMP:20260421T112906
CREATED:20241230T213506Z
LAST-MODIFIED:20241230T213506Z
UID:5212-1745607600-1745614800@www.heimatverein-grossenzersdorf.at
SUMMARY:Vortrag: "Eine Topothek - was ist das und wofür kann man sie verwenden?"
DESCRIPTION:Cornelia Bock\, Georg Vogt und Christian Lamminger stellen die Groß-Enzersdorfer Topothek vor.
URL:https://www.heimatverein-grossenzersdorf.at/termin/vortrag-eine-topothek-was-ist-das-und-wofuer-kann-man-sie-verwenden/
LOCATION:Pfarrheim Groß Enzersdorf\, Kirchenplatz 20\, Groß Enzersdorf\, 2301
END:VEVENT
END:VCALENDAR